BEGIN:VCALENDAR
VERSION:2.0
PRODID:spatie/icalendar-generator
DESCRIPTION:Events from SGVR Collection
X-WR-CALDESC:Events from SGVR Collection
REFRESH-INTERVAL;VALUE=DURATION:PT1440M
X-PUBLISHED-TTL:PT1440M
BEGIN:VTIMEZONE
TZID:America/Los_Angeles
BEGIN:STANDARD
DTSTART:20251102T020000Z
TZOFFSETFROM:-0700
TZOFFSETTO:-0800
END:STANDARD
BEGIN:DAYLIGHT
DTSTART:20260308T020000Z
TZOFFSETFROM:-0800
TZOFFSETTO:-0700
END:DAYLIGHT
END:VTIMEZONE
BEGIN:VTIMEZONE
TZID:UTC
BEGIN:STANDARD
DTSTART:20250727T070708Z
TZOFFSETFROM:+0000
TZOFFSETTO:+0000
END:STANDARD
END:VTIMEZONE
BEGIN:VEVENT
UID:6-5
DTSTAMP:20260423T070708Z
SUMMARY:Members Breakfast
LOCATION:Annia\\'s Kitchen 4233 Santa Anita Ave   El Monte CA 91731
ORGANIZER;CN=System Admin:MAILTO:sgvrweb@gmail.com
RRULE:FREQ=MONTHLY;BYDAY=1SA;UNTIL=20360207T000000Z
DTSTART;TZID=America/Los_Angeles:20260307T073000
DTEND;TZID=America/Los_Angeles:20260307T103000
X-ALT-DESC;FMTTYPE=TEXT/HTML:Come out and join us for our member’s monthl
 y breakfast social. We meet at Annia’s Kitchen\, located at the San Gabr
 iel Airport. Not a member yet? Come out and get to know us before joining.
CATEGORIES:SGVR PCA Event
URL;VALUE=URI:https://vcbkyqw100s.c.updraftclone.com/mc-events/members-brea
 kfast/?mc_id=6
METHOD:PUBLISH
END:VEVENT
END:VCALENDAR